BEGIN:VCALENDAR
VERSION:2.0
PRODID:-//OmniMagnetCalendar//EN
BEGIN:VEVENT
DTSTAMP:20190625T195740Z
STATUS:CONFIRMED
UID:hcgeorgia.clubs.harvard.edu748
DTSTART:20241016T223000Z
DTEND:20241017T003000Z
LOCATION:TBD,
SUMMARY:Book Club - October
DESCRIPTION:Topic:  The Madness of Crowds  by Douglas Murray    This event is virtual. Confirmed attendees will be sent the address. Participation is free, but please notify Robert Hahn of plans to participate (rahahn5@gmail.com)
BEGIN:VALARM
TRIGGER:-PT15M
ACTION:DISPLAY
END:VALARM
TRANSP:OPAQUE
END:VEVENT
END:VCALENDAR
