BEGIN:VCALENDAR
VERSION:2.0
PRODID:-//OmniMagnetCalendar//EN
BEGIN:VEVENT
DTSTAMP:20190625T195740Z
STATUS:CONFIRMED
UID:hcgeorgia.clubs.harvard.edu751
DTSTART:20240920T150000Z
DTEND:20240921T190000Z
LOCATION: Piedmont Park, Oak Hill, Atlanta, GA,
SUMMARY:3rd Annual Ivy+ Field Day - September 21
DESCRIPTION:
BEGIN:VALARM
TRIGGER:-PT15M
ACTION:DISPLAY
END:VALARM
TRANSP:OPAQUE
END:VEVENT
END:VCALENDAR
