BEGIN:VCALENDAR
VERSION:2.0
PRODID:-//OmniMagnetCalendar//EN
BEGIN:VEVENT
DTSTAMP:20190625T195740Z
STATUS:CONFIRMED
UID:hcgeorgia.clubs.harvard.edu754
DTSTART:20241117T230000Z
DTEND:20241118T020000Z
LOCATION:At the home of Mike St. Louis - Location Details Provided to Registered Guests,
SUMMARY:Sunday Supper - November
DESCRIPTION:with guest; Lizann Grupalo At the Home of Mike St. Louis
BEGIN:VALARM
TRIGGER:-PT15M
ACTION:DISPLAY
END:VALARM
TRANSP:OPAQUE
END:VEVENT
END:VCALENDAR
