BEGIN:VCALENDAR
VERSION:2.0
PRODID:-//OmniMagnetCalendar//EN
BEGIN:VEVENT
DTSTAMP:20190625T195740Z
STATUS:CONFIRMED
UID:hcgeorgia.clubs.harvard.edu756
DTSTART:20241020T220000Z
DTEND:20241021T010000Z
LOCATION:At the home of Swapan Kumar - Location Details Provided to Registered Guests,
SUMMARY:Sunday Supper - October
DESCRIPTION:with guest; Courtney English and Kelly Beaty English   At the Home of Swapan Kumar
BEGIN:VALARM
TRIGGER:-PT15M
ACTION:DISPLAY
END:VALARM
TRANSP:OPAQUE
END:VEVENT
END:VCALENDAR
