BEGIN:VCALENDAR
VERSION:2.0
PRODID:-//OmniMagnetCalendar//EN
BEGIN:VEVENT
DTSTAMP:20190625T195740Z
STATUS:CONFIRMED
UID:hcgeorgia.clubs.harvard.edu760
DTSTART:20241206T010000Z
DTEND:20241206T030000Z
LOCATION:Atlanta Symphony Hall, 1280 Peachtree St NE, Atlanta, GA, 30309,
SUMMARY:Yo-Yo Ma Tickets
DESCRIPTION:
BEGIN:VALARM
TRIGGER:-PT15M
ACTION:DISPLAY
END:VALARM
TRANSP:OPAQUE
END:VEVENT
END:VCALENDAR
