BEGIN:VCALENDAR
VERSION:2.0
PRODID:-//OmniMagnetCalendar//EN
BEGIN:VEVENT
DTSTAMP:20190625T195740Z
STATUS:CONFIRMED
UID:hcgeorgia.clubs.harvard.edu762
DTSTART:20250209T230000Z
DTEND:20250209T230000Z
LOCATION:At the home of  Bill and Carol Schnaer - Address to be provided to registered guests,
SUMMARY:Sunday Supper - February
DESCRIPTION:with guest; Jennifer McCoy   At the Home of  Bill and Carol Schnaer
BEGIN:VALARM
TRIGGER:-PT15M
ACTION:DISPLAY
END:VALARM
TRANSP:OPAQUE
END:VEVENT
END:VCALENDAR
