BEGIN:VCALENDAR
VERSION:2.0
PRODID:-//OmniMagnetCalendar//EN
BEGIN:VEVENT
DTSTAMP:20190625T195740Z
STATUS:CONFIRMED
UID:hcgeorgia.clubs.harvard.edu766
DTSTART:20250319T223000Z
DTEND:20250320T003000Z
LOCATION:Provided to confirmed attendees,
SUMMARY:Book Club - March 2025
DESCRIPTION:Topic:  Pedro Paramo  by Juan Rulfo   This event is in person. Confirmed attendees will be sent the address. Participation is free, but please notify Robert Hahn of plans to participate (rahahn5@gmail.com)
BEGIN:VALARM
TRIGGER:-PT15M
ACTION:DISPLAY
END:VALARM
TRANSP:OPAQUE
END:VEVENT
END:VCALENDAR
