BEGIN:VCALENDAR
VERSION:2.0
PRODID:-//OmniMagnetCalendar//EN
BEGIN:VEVENT
DTSTAMP:20190625T195740Z
STATUS:CONFIRMED
UID:hcgeorgia.clubs.harvard.edu767
DTSTART:20250115T233000Z
DTEND:20250116T013000Z
LOCATION:Provided to confirmed attendees,
SUMMARY:Book Club - January 2025
DESCRIPTION:Topic:  Poverty, by America  by Matthew Desmond   This event is in person. Confirmed attendees will be sent the address. Participation is free, but please notify Robert Hahn of plans to participate (rahahn5@gmail.com)
BEGIN:VALARM
TRIGGER:-PT15M
ACTION:DISPLAY
END:VALARM
TRANSP:OPAQUE
END:VEVENT
END:VCALENDAR
