BEGIN:VCALENDAR
VERSION:2.0
PRODID:-//OmniMagnetCalendar//EN
BEGIN:VEVENT
DTSTAMP:20190625T195740Z
STATUS:CONFIRMED
UID:hcgeorgia.clubs.harvard.edu768
DTSTART:20250416T223000Z
DTEND:20250417T003000Z
LOCATION:Link provided to confirmed attendees,
SUMMARY:Book Club - April 2025
DESCRIPTION:Topic:  Night Flyer:  Harriet Tubman and the Faith Dreams of a Free People  by Tiya Miles   Location is via Zoom. Confirmed attendees will be sent the link. Participation is free. Please notify Robert Hahn of plans to participa
BEGIN:VALARM
TRIGGER:-PT15M
ACTION:DISPLAY
END:VALARM
TRANSP:OPAQUE
END:VEVENT
END:VCALENDAR
