BEGIN:VCALENDAR
VERSION:2.0
PRODID:-//OmniMagnetCalendar//EN
BEGIN:VEVENT
DTSTAMP:20190625T195740Z
STATUS:CONFIRMED
UID:hcgeorgia.clubs.harvard.edu769
DTSTART:20250521T223000Z
DTEND:20250522T003000Z
LOCATION:Address provided to confirmed attendees,
SUMMARY:Book Club - May 2025
DESCRIPTION:Topic:  The Other Eden  by Paul Harding    This event is in-person. Confirmed attendees will be sent the address. Participation is free, but please notify Robert Hahn of plans to participate (rahahn5@gmail.com)
BEGIN:VALARM
TRIGGER:-PT15M
ACTION:DISPLAY
END:VALARM
TRANSP:OPAQUE
END:VEVENT
END:VCALENDAR
