BEGIN:VCALENDAR
VERSION:2.0
PRODID:-//OmniMagnetCalendar//EN
BEGIN:VEVENT
DTSTAMP:20190625T195740Z
STATUS:CONFIRMED
UID:hcgeorgia.clubs.harvard.edu776
DTSTART:20250313T230000Z
DTEND:20250314T003000Z
LOCATION:Pace Academy, 966 W Paces Ferry Rd NW, Atlanta, GA, 30327,
SUMMARY:Lecture and Presentation on Military Artwork and Artifacts - 1500 - 1945
DESCRIPTION:Topic:  Military Artwork and Artifacts 1500 - 1945 Hosted by Andrew Woelflein, Brown University '86   Location: Pace Academy.
BEGIN:VALARM
TRIGGER:-PT15M
ACTION:DISPLAY
END:VALARM
TRANSP:OPAQUE
END:VEVENT
END:VCALENDAR
