BEGIN:VCALENDAR
VERSION:2.0
PRODID:-//OmniMagnetCalendar//EN
BEGIN:VEVENT
DTSTAMP:20190625T195740Z
STATUS:CONFIRMED
UID:hcgeorgia.clubs.harvard.edu780
DTSTART:20250324T210000Z
DTEND:20250325T000000Z
LOCATION:BofA Auditorium in the Shirley A. Massey Executive Conference Center , 830 Westview Dr SW, Atlanta, GA, 30314,
SUMMARY:Ivy + Program at Morehouse College - How Policies Shape Startup Opportunities
DESCRIPTION:
BEGIN:VALARM
TRIGGER:-PT15M
ACTION:DISPLAY
END:VALARM
TRANSP:OPAQUE
END:VEVENT
END:VCALENDAR
