BEGIN:VCALENDAR
VERSION:2.0
PRODID:-//OmniMagnetCalendar//EN
BEGIN:VEVENT
DTSTAMP:20190625T195740Z
STATUS:CONFIRMED
UID:hcgeorgia.clubs.harvard.edu784
DTSTART:20250322T202000Z
DTEND:20250322T223000Z
LOCATION:Outside Bar at the Chattahoochee Food Works , 1235 Chattahoochee Ave NW, Atlanta, GA, 30318,
SUMMARY:Cheer on Harvard Women’s Basketball in the NCAA Tournament!
DESCRIPTION:Harvard Women's Basketball Watch Party at Chattahoochee Food Works
BEGIN:VALARM
TRIGGER:-PT15M
ACTION:DISPLAY
END:VALARM
TRANSP:OPAQUE
END:VEVENT
END:VCALENDAR
