BEGIN:VCALENDAR
VERSION:2.0
PRODID:-//OmniMagnetCalendar//EN
BEGIN:VEVENT
DTSTAMP:20190625T195740Z
STATUS:CONFIRMED
UID:hcgeorgia.clubs.harvard.edu786
DTSTART:20250430T220000Z
DTEND:20250501T000000Z
LOCATION:Monday Night Brewing - The Garage, 933 Lee St SW, Atlanta, GA, 30310, United States,
SUMMARY:Crimson Conversations - April 30 Get-Together on the Atlanta Beltline
DESCRIPTION:
BEGIN:VALARM
TRIGGER:-PT15M
ACTION:DISPLAY
END:VALARM
TRANSP:OPAQUE
END:VEVENT
END:VCALENDAR
