BEGIN:VCALENDAR
VERSION:2.0
PRODID:-//OmniMagnetCalendar//EN
BEGIN:VEVENT
DTSTAMP:20190625T195740Z
STATUS:CONFIRMED
UID:hcgeorgia.clubs.harvard.edu805
DTSTART:20251005T220000Z
DTEND:20251006T010000Z
LOCATION:Address to be provided to registered guests,
SUMMARY:Sunday Supper - October 2025
DESCRIPTION:with guest; Josh Green  At the Home of Julian Bene
BEGIN:VALARM
TRIGGER:-PT15M
ACTION:DISPLAY
END:VALARM
TRANSP:OPAQUE
END:VEVENT
END:VCALENDAR
