BEGIN:VCALENDAR
VERSION:2.0
PRODID:-//OmniMagnetCalendar//EN
BEGIN:VEVENT
DTSTAMP:20190625T195740Z
STATUS:CONFIRMED
UID:hcgeorgia.clubs.harvard.edu813
DTSTART:20251021T223000Z
DTEND:20251022T003000Z
LOCATION:R. Thomas Deluxe, 1812 Peachtree Street NE, Atlanta, GA, 30309, USA,
SUMMARY:Building a More Meaningful and Financially Confident Life - Lessons Worth Sharing
DESCRIPTION:
BEGIN:VALARM
TRIGGER:-PT15M
ACTION:DISPLAY
END:VALARM
TRANSP:OPAQUE
END:VEVENT
END:VCALENDAR
