BEGIN:VCALENDAR
VERSION:2.0
PRODID:-//OmniMagnetCalendar//EN
BEGIN:VEVENT
DTSTAMP:20190625T195740Z
STATUS:CONFIRMED
UID:hcgeorgia.clubs.harvard.edu818
DTSTART:20260118T230000Z
DTEND:20260119T020000Z
LOCATION:Home of Swapan Kumar - Address provided to confirmed guests,
SUMMARY:Sunday Supper - January 2026
DESCRIPTION:with guest; Rose Scott  Host of WABE's Closer Look 
BEGIN:VALARM
TRIGGER:-PT15M
ACTION:DISPLAY
END:VALARM
TRANSP:OPAQUE
END:VEVENT
END:VCALENDAR
