BEGIN:VCALENDAR
VERSION:2.0
PRODID:-//OmniMagnetCalendar//EN
BEGIN:VEVENT
DTSTAMP:20190625T195740Z
STATUS:CONFIRMED
UID:hcgeorgia.clubs.harvard.edu834
DTSTART:20260404T173000Z
DTEND:20260404T203000Z
LOCATION:Boxcar at Hop City West End, 1000 White Street Southwest, Atlanta, GA, 30310, Lower Level Lounge, Atlanta, GA, 30310, United States,
SUMMARY:AOCC Mid-Day Mixer - Saturday, April 4th, from 1:30-4:30pm
DESCRIPTION:
BEGIN:VALARM
TRIGGER:-PT15M
ACTION:DISPLAY
END:VALARM
TRANSP:OPAQUE
END:VEVENT
END:VCALENDAR
